BEGIN:VCALENDAR
VERSION:2.0
PRODID:-//http://www.eldingen.info//NONSGML kigkonsult.se iCalcreator 2.29.
 29//
CALSCALE:GREGORIAN
METHOD:PUBLISH
UID:273b40a9-b02c-4f70-9fab-c2ff4995cb43
X-WR-CALNAME:JCal Pro Kalender
X-WR-CALDESC:Ihr Online-Terminkalender
X-WR-TIMEZONE:Europe/Berlin
BEGIN:VTIMEZONE
TZID:Europe/Berlin
BEGIN:STANDARD
TZNAME:CET
DTSTART:20251026T030000
TZOFFSETFROM:+0200
TZOFFSETTO:+0100
RDATE:20261025T030000
END:STANDARD
BEGIN:DAYLIGHT
TZNAME:CEST
DTSTART:20260329T020000
TZOFFSETFROM:+0100
TZOFFSETTO:+0200
RDATE:20270328T020000
END:DAYLIGHT
END:VTIMEZONE
BEGIN:VEVENT
UID:20140420T170000UTC-9d65c4@http://32.eldingen.info/
DTSTAMP:20260420T084133Z
CATEGORIES:Traditionell
DTSTART;TZID=Europe/Berlin:20140420T190000
DTEND;TZID=Europe/Berlin:20140420T190000
SUMMARY:Osterfeuer Beedenbostel
URL:http://www.eldingen.info/214-traditionell/3713-osterfeuer-beedenbostel.
 html
END:VEVENT
END:VCALENDAR
