BEGIN:VCALENDAR
VERSION:2.0
PRODID:-//https://www.eldingen.info//NONSGML kigkonsult.se iCalcreator 2.29
 .29//
CALSCALE:GREGORIAN
METHOD:PUBLISH
UID:50ae7c8b-a68b-454f-9863-4c3988139b7c
X-WR-CALNAME:JCal Pro Kalender
X-WR-CALDESC:Ihr Online-Terminkalender
X-WR-TIMEZONE:Europe/Berlin
BEGIN:VTIMEZONE
TZID:Europe/Berlin
BEGIN:STANDARD
TZNAME:CET
DTSTART:20251026T030000
TZOFFSETFROM:+0200
TZOFFSETTO:+0100
RDATE:20261025T030000
END:STANDARD
BEGIN:DAYLIGHT
TZNAME:CEST
DTSTART:20260329T020000
TZOFFSETFROM:+0100
TZOFFSETTO:+0200
RDATE:20270328T020000
END:DAYLIGHT
END:VTIMEZONE
BEGIN:VEVENT
UID:20151128T100000UTC-189b61@http://www.eldingen.info/
DTSTAMP:20260421T131422Z
CATEGORIES:Märkte
DTSTART;TZID=Europe/Berlin:20151128T110000
DTEND;TZID=Europe/Berlin:20151128T200000
SUMMARY:Adventsmarkt in Lachendorf
URL:https://www.eldingen.info/210-maerkte/3984-adventsmarkt-in-lachendorf.h
 tml
END:VEVENT
END:VCALENDAR
